BEGIN:VCALENDAR
VERSION:2.0
PRODID:-//Mormoiron.fr - ECPv6.15.18//NONSGML v1.0//EN
CALSCALE:GREGORIAN
METHOD:PUBLISH
X-ORIGINAL-URL:https://mormoiron.fr
X-WR-CALDESC:Évènements pour Mormoiron.fr
REFRESH-INTERVAL;VALUE=DURATION:PT1H
X-Robots-Tag:noindex
X-PUBLISHED-TTL:PT1H
BEGIN:VTIMEZONE
TZID:Europe/Paris
BEGIN:DAYLIGHT
TZOFFSETFROM:+0100
TZOFFSETTO:+0200
TZNAME:CEST
DTSTART:20250330T010000
END:DAYLIGHT
BEGIN:STANDARD
TZOFFSETFROM:+0200
TZOFFSETTO:+0100
TZNAME:CET
DTSTART:20251026T010000
END:STANDARD
BEGIN:DAYLIGHT
TZOFFSETFROM:+0100
TZOFFSETTO:+0200
TZNAME:CEST
DTSTART:20260329T010000
END:DAYLIGHT
BEGIN:STANDARD
TZOFFSETFROM:+0200
TZOFFSETTO:+0100
TZNAME:CET
DTSTART:20261025T010000
END:STANDARD
BEGIN:DAYLIGHT
TZOFFSETFROM:+0100
TZOFFSETTO:+0200
TZNAME:CEST
DTSTART:20270328T010000
END:DAYLIGHT
BEGIN:STANDARD
TZOFFSETFROM:+0200
TZOFFSETTO:+0100
TZNAME:CET
DTSTART:20271031T010000
END:STANDARD
END:VTIMEZONE
BEGIN:VEVENT
DTSTART;VALUE=DATE:20260105
DTEND;VALUE=DATE:20260203
DTSTAMP:20260422T213421
CREATED:20260105T131413Z
LAST-MODIFIED:20260105T131639Z
UID:289587-1767571200-1770076799@mormoiron.fr
SUMMARY:Crèche provençale de l'église Saint-Laurent
DESCRIPTION:
URL:https://mormoiron.fr/event/creche-provencale-de-leglise-saint-laurent/
LOCATION:Eglise\, rue de l'église\, Mormoiron\, 84570
CATEGORIES:Animation
ATTACH;FMTTYPE=image/jpeg:https://mormoiron.fr/wp-content/uploads/2026/01/Creche-provencale-de-leglise-Saint-Laurent-1.jpg
END:VEVENT
BEGIN:VEVENT
DTSTART;VALUE=DATE:20260118
DTEND;VALUE=DATE:20260119
DTSTAMP:20260422T213421
CREATED:20260107T105740Z
LAST-MODIFIED:20260107T105740Z
UID:289609-1768694400-1768780799@mormoiron.fr
SUMMARY:Trail Ocres et Limons
DESCRIPTION:Rendez-vous le 18 janvier 2026 pour une 16ème édition qui s’annonce déjà mémorable au cœur de nos beaux paysages.
URL:https://mormoiron.fr/event/trail-ocres-et-limons/
LOCATION:Le village
CATEGORIES:Animation
ATTACH;FMTTYPE=image/jpeg:https://mormoiron.fr/wp-content/uploads/2026/01/566231006_1338932857815990_2134550989802208338_n.jpg
END:VEVENT
BEGIN:VEVENT
DTSTART;TZID=Europe/Paris:20260131T200000
DTEND;TZID=Europe/Paris:20260131T200000
DTSTAMP:20260422T213421
CREATED:20260126T092628Z
LAST-MODIFIED:20260126T092628Z
UID:289950-1769889600-1769889600@mormoiron.fr
SUMMARY:Musique provençale avec Trio
DESCRIPTION:
URL:https://mormoiron.fr/event/musique-provencale-avec-trio/
LOCATION:Hangar de Lamy\, 220 chemin des argiles\, Mormoiron\, 84570\, France
CATEGORIES:Animation
ATTACH;FMTTYPE=image/jpeg:https://mormoiron.fr/wp-content/uploads/2026/01/affiche-Trio.jpg
ORGANIZER;CN="Asso Lire et Connaitre":MAILTO:liretconnaitre84@gmail.com
END:VEVENT
END:VCALENDAR