BEGIN:VCALENDAR
VERSION:2.0
PRODID:-//Mormoiron.fr - ECPv6.15.18//NONSGML v1.0//EN
CALSCALE:GREGORIAN
METHOD:PUBLISH
X-WR-CALNAME:Mormoiron.fr
X-ORIGINAL-URL:https://mormoiron.fr
X-WR-CALDESC:Évènements pour Mormoiron.fr
REFRESH-INTERVAL;VALUE=DURATION:PT1H
X-Robots-Tag:noindex
X-PUBLISHED-TTL:PT1H
BEGIN:VTIMEZONE
TZID:Europe/Paris
BEGIN:DAYLIGHT
TZOFFSETFROM:+0100
TZOFFSETTO:+0200
TZNAME:CEST
DTSTART:20250330T010000
END:DAYLIGHT
BEGIN:STANDARD
TZOFFSETFROM:+0200
TZOFFSETTO:+0100
TZNAME:CET
DTSTART:20251026T010000
END:STANDARD
BEGIN:DAYLIGHT
TZOFFSETFROM:+0100
TZOFFSETTO:+0200
TZNAME:CEST
DTSTART:20260329T010000
END:DAYLIGHT
BEGIN:STANDARD
TZOFFSETFROM:+0200
TZOFFSETTO:+0100
TZNAME:CET
DTSTART:20261025T010000
END:STANDARD
BEGIN:DAYLIGHT
TZOFFSETFROM:+0100
TZOFFSETTO:+0200
TZNAME:CEST
DTSTART:20270328T010000
END:DAYLIGHT
BEGIN:STANDARD
TZOFFSETFROM:+0200
TZOFFSETTO:+0100
TZNAME:CET
DTSTART:20271031T010000
END:STANDARD
END:VTIMEZONE
BEGIN:VEVENT
DTSTART;VALUE=DATE:20260506
DTEND;VALUE=DATE:20260507
DTSTAMP:20260421T130640
CREATED:20260417T072958Z
LAST-MODIFIED:20260417T072958Z
UID:291097-1778025600-1778111999@mormoiron.fr
SUMMARY:JOURNÉES NATIONALES DE LA GÉOLOGIE 2026
DESCRIPTION:Le Centre culturel de Mormoiron & les carrières SIBELCO & GL LPO Ventoux vous proposent Samedi 6 Juin 2026 de découvrir son Patrimoine industriel ainsi que la Géobiodiversité de Mormoiron : \n\nOuverture exceptionnelle des carrières Sibelco : Ateliers Visite des carrières\, Biodiversité des carrières et visite d’Usine (Le matin. A partir de 12 ans. Sur inscription)\n\nLe Centre culturel de Mormoiron vous convie à une conférence « TROIS HISTOIRES DES OCRES » animée par Mathieu Barrois\, Directeur d’Ôkhra\, l’après-midi à 14h30 (Entrée libre) \nUn événement local\, gratuit et tout public\, et qui prendra diverses formes. \nDécouvrez le programme ! \n& Inscrivez-vous en cliquant sur le lien : \nhttps://framaforms.org/jng-2026-samedi-6-juin-2026-centre-culturel-de-mormoiron-carrieres-sibelco-inscrivez-vous-1772870669 \n\nUn retour sur votre inscription sera fait à compter du 28/04/2026.
URL:https://mormoiron.fr/event/journees-nationales-de-la-geologie-2026/
LOCATION:Centre Culturel\, 73 rue de la mairie\, mormoiron\, 84570\, France
CATEGORIES:Animation,Exposition
ATTACH;FMTTYPE=image/jpeg:https://mormoiron.fr/wp-content/uploads/2026/04/affiche-JNG-2026-Mormoiron_page-0001.jpg
ORGANIZER;CN="Centre Culturel":MAILTO:bibliothecaire@ville-mormoiron.fr
END:VEVENT
BEGIN:VEVENT
DTSTART;TZID=Europe/Paris:20260521T180000
DTEND;TZID=Europe/Paris:20260521T200000
DTSTAMP:20260421T130640
CREATED:20260311T073535Z
LAST-MODIFIED:20260311T073535Z
UID:290576-1779386400-1779393600@mormoiron.fr
SUMMARY:Soirée jeux - espace numérique à Mazan
DESCRIPTION:Venez participer à la troisième soirée jeux organisée en partenariat avec Nicolas. Le thème sera cette fois : les Voyages. Bonne humeur garantie. Inscriptions nécessaires sur liretconnaitre84@gmail.com
URL:https://mormoiron.fr/event/soiree-jeux-espace-numerique-a-mazan/
LOCATION:Espace numérique de Mazan
CATEGORIES:Animation
ATTACH;FMTTYPE=image/jpeg:https://mormoiron.fr/wp-content/uploads/2026/01/lire-et-connaitre.jpg
ORGANIZER;CN="Asso Lire et Connaitre":MAILTO:liretconnaitre84@gmail.com
END:VEVENT
BEGIN:VEVENT
DTSTART;TZID=Europe/Paris:20260529T180000
DTEND;TZID=Europe/Paris:20260529T210000
DTSTAMP:20260421T130640
CREATED:20260311T073726Z
LAST-MODIFIED:20260311T073726Z
UID:290578-1780077600-1780088400@mormoiron.fr
SUMMARY:Contes et musiques en randonnée
DESCRIPTION:Contes et musique viendront agrémenter une randonnée facile dans le magnifique décor des ocres de notre village (voir conditions sur l’affiche jointe).
URL:https://mormoiron.fr/event/contes-et-musiques-en-randonnee/
LOCATION:Les ocres\, Mormoiron\, 84570
CATEGORIES:Animation
ATTACH;FMTTYPE=image/jpeg:https://mormoiron.fr/wp-content/uploads/2026/03/ocres-29-mai-2026.jpg
ORGANIZER;CN="Asso Lire et Connaitre":MAILTO:liretconnaitre84@gmail.com
END:VEVENT
END:VCALENDAR