BEGIN:VCALENDAR
VERSION:2.0
PRODID:-//Mormoiron.fr - ECPv6.15.18//NONSGML v1.0//EN
CALSCALE:GREGORIAN
METHOD:PUBLISH
X-ORIGINAL-URL:https://mormoiron.fr
X-WR-CALDESC:Évènements pour Mormoiron.fr
REFRESH-INTERVAL;VALUE=DURATION:PT1H
X-Robots-Tag:noindex
X-PUBLISHED-TTL:PT1H
BEGIN:VTIMEZONE
TZID:Europe/Paris
BEGIN:DAYLIGHT
TZOFFSETFROM:+0100
TZOFFSETTO:+0200
TZNAME:CEST
DTSTART:20250330T010000
END:DAYLIGHT
BEGIN:STANDARD
TZOFFSETFROM:+0200
TZOFFSETTO:+0100
TZNAME:CET
DTSTART:20251026T010000
END:STANDARD
BEGIN:DAYLIGHT
TZOFFSETFROM:+0100
TZOFFSETTO:+0200
TZNAME:CEST
DTSTART:20260329T010000
END:DAYLIGHT
BEGIN:STANDARD
TZOFFSETFROM:+0200
TZOFFSETTO:+0100
TZNAME:CET
DTSTART:20261025T010000
END:STANDARD
BEGIN:DAYLIGHT
TZOFFSETFROM:+0100
TZOFFSETTO:+0200
TZNAME:CEST
DTSTART:20270328T010000
END:DAYLIGHT
BEGIN:STANDARD
TZOFFSETFROM:+0200
TZOFFSETTO:+0100
TZNAME:CET
DTSTART:20271031T010000
END:STANDARD
END:VTIMEZONE
BEGIN:VEVENT
DTSTART;TZID=Europe/Paris:20260301T100000
DTEND;TZID=Europe/Paris:20260301T180000
DTSTAMP:20260422T173115
CREATED:20260128T100855Z
LAST-MODIFIED:20260128T100855Z
UID:290022-1772359200-1772388000@mormoiron.fr
SUMMARY:Pouvoir de la Musique Illustrée et Dansée
DESCRIPTION:Avec Andréa SKRYPSKI     Facilitatrice de Biodanza \n\nUne journée dédiée aux émotions évoquées par la musique et la danse. La matinée sera consacrée à des illustrations et échanges avec le public\, et l’après-midi s’articulera autour d’une vivencia de Biodanza. \nRepas partagé \nTarif libre entre 40 et 60 € \nInformations et inscriptions : 06 59 92 89 40
URL:https://mormoiron.fr/event/pouvoir-de-la-musique-illustree-et-dansee/
LOCATION:Mas de Bacalan\, 1049 C\, Route de Villes-sur-Auzon\, Mormoiron\, 84570\, France
CATEGORIES:Animation
ATTACH;FMTTYPE=image/jpeg:https://mormoiron.fr/wp-content/uploads/2026/01/Bacalan-et-Compagnies.jpg
ORGANIZER;CN="Bacalans et Compagnies":MAILTO:bacalanetco@tutamail.com
END:VEVENT
END:VCALENDAR