BEGIN:VCALENDAR
VERSION:2.0
PRODID:-//Mormoiron.fr - ECPv6.15.18//NONSGML v1.0//EN
CALSCALE:GREGORIAN
METHOD:PUBLISH
X-WR-CALNAME:Mormoiron.fr
X-ORIGINAL-URL:https://mormoiron.fr
X-WR-CALDESC:Évènements pour Mormoiron.fr
REFRESH-INTERVAL;VALUE=DURATION:PT1H
X-Robots-Tag:noindex
X-PUBLISHED-TTL:PT1H
BEGIN:VTIMEZONE
TZID:Europe/Paris
BEGIN:DAYLIGHT
TZOFFSETFROM:+0100
TZOFFSETTO:+0200
TZNAME:CEST
DTSTART:20250330T010000
END:DAYLIGHT
BEGIN:STANDARD
TZOFFSETFROM:+0200
TZOFFSETTO:+0100
TZNAME:CET
DTSTART:20251026T010000
END:STANDARD
BEGIN:DAYLIGHT
TZOFFSETFROM:+0100
TZOFFSETTO:+0200
TZNAME:CEST
DTSTART:20260329T010000
END:DAYLIGHT
BEGIN:STANDARD
TZOFFSETFROM:+0200
TZOFFSETTO:+0100
TZNAME:CET
DTSTART:20261025T010000
END:STANDARD
BEGIN:DAYLIGHT
TZOFFSETFROM:+0100
TZOFFSETTO:+0200
TZNAME:CEST
DTSTART:20270328T010000
END:DAYLIGHT
BEGIN:STANDARD
TZOFFSETFROM:+0200
TZOFFSETTO:+0100
TZNAME:CET
DTSTART:20271031T010000
END:STANDARD
END:VTIMEZONE
BEGIN:VEVENT
DTSTART;TZID=Europe/Paris:20260315T170000
DTEND;TZID=Europe/Paris:20260315T200000
DTSTAMP:20260421T122824
CREATED:20260128T091457Z
LAST-MODIFIED:20260128T091457Z
UID:290016-1773594000-1773604800@mormoiron.fr
SUMMARY:Scène ouverte au Bacalan
DESCRIPTION:Une journée informelle pour jouer\, proposer un texte ou un poème\, partager un coup de gueule\, un morceau de musique. \nTotalement improvisée ou complètement organisées\, toutes les propositions seront les bienvenues. \nInscriptions nécessaires des performeurs pour offrir à chacun l’espace nécessaire à sa créativité. \nEt bien sûr des spectateurs au 06 12 96 55 92 ou bacalanetco@tutamail.com \nAdhérents : 7 € et non-adhérents : 10 €\nAdhésion annuelle à l’association Bacalan et Compagnies : 10 €
URL:https://mormoiron.fr/event/scene-ouverte-au-bacalan/
LOCATION:Mas de Bacalan\, 1049 C\, Route de Villes-sur-Auzon\, Mormoiron\, 84570\, France
CATEGORIES:Animation
ATTACH;FMTTYPE=image/jpeg:https://mormoiron.fr/wp-content/uploads/2026/01/Bacalan-et-Compagnies.jpg
ORGANIZER;CN="Bacalans et Compagnies":MAILTO:bacalanetco@tutamail.com
END:VEVENT
END:VCALENDAR