BEGIN:VCALENDAR
VERSION:2.0
PRODID:-//Mormoiron.fr - ECPv6.15.18//NONSGML v1.0//EN
CALSCALE:GREGORIAN
METHOD:PUBLISH
X-ORIGINAL-URL:https://mormoiron.fr
X-WR-CALDESC:Évènements pour Mormoiron.fr
REFRESH-INTERVAL;VALUE=DURATION:PT1H
X-Robots-Tag:noindex
X-PUBLISHED-TTL:PT1H
BEGIN:VTIMEZONE
TZID:Europe/Paris
BEGIN:DAYLIGHT
TZOFFSETFROM:+0100
TZOFFSETTO:+0200
TZNAME:CEST
DTSTART:20250330T010000
END:DAYLIGHT
BEGIN:STANDARD
TZOFFSETFROM:+0200
TZOFFSETTO:+0100
TZNAME:CET
DTSTART:20251026T010000
END:STANDARD
BEGIN:DAYLIGHT
TZOFFSETFROM:+0100
TZOFFSETTO:+0200
TZNAME:CEST
DTSTART:20260329T010000
END:DAYLIGHT
BEGIN:STANDARD
TZOFFSETFROM:+0200
TZOFFSETTO:+0100
TZNAME:CET
DTSTART:20261025T010000
END:STANDARD
BEGIN:DAYLIGHT
TZOFFSETFROM:+0100
TZOFFSETTO:+0200
TZNAME:CEST
DTSTART:20270328T010000
END:DAYLIGHT
BEGIN:STANDARD
TZOFFSETFROM:+0200
TZOFFSETTO:+0100
TZNAME:CET
DTSTART:20271031T010000
END:STANDARD
END:VTIMEZONE
BEGIN:VEVENT
DTSTART;TZID=Europe/Paris:20260321T100000
DTEND;TZID=Europe/Paris:20260321T180000
DTSTAMP:20260421T123747
CREATED:20260128T094627Z
LAST-MODIFIED:20260128T094627Z
UID:290018-1774087200-1774116000@mormoiron.fr
SUMMARY:Danse Contact
DESCRIPTION:Avec Pipo DAMIANO \n\nUne journée pour découvrir cette danse qui naît de la communication spontanée entre des corps en mouvement et en contact physique. Quelque soit les habiletés et le niveau de pratique de chacun-e\, cet atelier vous permettra de rencontrer la danse\, l’improvisation et l’autre en respectant et en acceptant les possibilités de tou·tes. \nTarif : 30 € –  repas partagé \nInformations et inscriptions : pipodamiano@mac.com   06 14 53 22 81
URL:https://mormoiron.fr/event/danse-contact/
LOCATION:Mas de Bacalan\, 1049 C\, Route de Villes-sur-Auzon\, Mormoiron\, 84570\, France
CATEGORIES:Animation
ATTACH;FMTTYPE=image/jpeg:https://mormoiron.fr/wp-content/uploads/2026/01/Bacalan-et-Compagnies.jpg
ORGANIZER;CN="Bacalans et Compagnies":MAILTO:bacalanetco@tutamail.com
END:VEVENT
END:VCALENDAR