BEGIN:VCALENDAR
VERSION:2.0
PRODID:-//Mormoiron.fr - ECPv6.15.18//NONSGML v1.0//EN
CALSCALE:GREGORIAN
METHOD:PUBLISH
X-ORIGINAL-URL:https://mormoiron.fr
X-WR-CALDESC:Évènements pour Mormoiron.fr
REFRESH-INTERVAL;VALUE=DURATION:PT1H
X-Robots-Tag:noindex
X-PUBLISHED-TTL:PT1H
BEGIN:VTIMEZONE
TZID:Europe/Paris
BEGIN:DAYLIGHT
TZOFFSETFROM:+0100
TZOFFSETTO:+0200
TZNAME:CEST
DTSTART:20240331T010000
END:DAYLIGHT
BEGIN:STANDARD
TZOFFSETFROM:+0200
TZOFFSETTO:+0100
TZNAME:CET
DTSTART:20241027T010000
END:STANDARD
BEGIN:DAYLIGHT
TZOFFSETFROM:+0100
TZOFFSETTO:+0200
TZNAME:CEST
DTSTART:20250330T010000
END:DAYLIGHT
BEGIN:STANDARD
TZOFFSETFROM:+0200
TZOFFSETTO:+0100
TZNAME:CET
DTSTART:20251026T010000
END:STANDARD
BEGIN:DAYLIGHT
TZOFFSETFROM:+0100
TZOFFSETTO:+0200
TZNAME:CEST
DTSTART:20260329T010000
END:DAYLIGHT
BEGIN:STANDARD
TZOFFSETFROM:+0200
TZOFFSETTO:+0100
TZNAME:CET
DTSTART:20261025T010000
END:STANDARD
END:VTIMEZONE
BEGIN:VEVENT
DTSTART;TZID=Europe/Paris:20250906T180000
DTEND;TZID=Europe/Paris:20250906T180000
DTSTAMP:20260421T230116
CREATED:20250828T113656Z
LAST-MODIFIED:20250828T113656Z
UID:288432-1757181600-1757181600@mormoiron.fr
SUMMARY:Les Bad Guys 2
DESCRIPTION:Les criminels animaliers s’efforcent de se faire à leur nouvelle vie de gentils. Bientôt\, ils sont tirés de leur retraite et forcés de faire « un dernier travail » par une équipe entièrement féminine.
URL:https://mormoiron.fr/event/les-bad-guys-2/
LOCATION:Hangar de Lamy\, 220 chemin des argiles\, Mormoiron\, 84570\, France
CATEGORIES:cinéma
ATTACH;FMTTYPE=image/jpeg:https://mormoiron.fr/wp-content/uploads/2025/08/LES-BAD-GUYS-2.jpg
END:VEVENT
BEGIN:VEVENT
DTSTART;TZID=Europe/Paris:20250906T210000
DTEND;TZID=Europe/Paris:20250906T210000
DTSTAMP:20260421T230116
CREATED:20250828T114410Z
LAST-MODIFIED:20250828T114410Z
UID:288435-1757192400-1757192400@mormoiron.fr
SUMMARY:7 jours
DESCRIPTION:Myriam\, activiste et militante pour les droits de l’Homme\, est emprisonnée depuis des années en Iran loin de son mari et de ses enfants. Lorsqu’elle obtient enfin une permission pour raisons médicales\, elle a 7 jours pour décider de fuir le pays et retrouver sa famille ou de rester en Iran pour continuer sa lutte. Commence alors une véritable course contre la montre.
URL:https://mormoiron.fr/event/7-jours/
LOCATION:Hangar de Lamy\, 220 chemin des argiles\, Mormoiron\, 84570\, France
CATEGORIES:cinéma
ATTACH;FMTTYPE=image/jpeg:https://mormoiron.fr/wp-content/uploads/2025/08/7-jours.jpg
END:VEVENT
BEGIN:VEVENT
DTSTART;TZID=Europe/Paris:20250920T180000
DTEND;TZID=Europe/Paris:20250920T180000
DTSTAMP:20260421T230116
CREATED:20250919T070950Z
LAST-MODIFIED:20250919T070950Z
UID:288630-1758391200-1758391200@mormoiron.fr
SUMMARY:Dragons
DESCRIPTION:Sur l’île escarpée de Beurk\, où depuis des générations Vikings et dragons s’affrontent sans merci\, Harold fait figure d’exception. Effacé\, écrasé par la stature de son père\, le chef de la tribu\, Stoïk\, ce jeune rêveur défie des siècles de tradition en se liant d’amitié avec un dragon nommé Krokmou.
URL:https://mormoiron.fr/event/dragons/
LOCATION:Hangar de Lamy\, 220 chemin des argiles\, Mormoiron\, 84570\, France
CATEGORIES:cinéma
ATTACH;FMTTYPE=image/png:https://mormoiron.fr/wp-content/uploads/2025/09/DRAGONS.png
END:VEVENT
BEGIN:VEVENT
DTSTART;TZID=Europe/Paris:20250920T210000
DTEND;TZID=Europe/Paris:20250920T210000
DTSTAMP:20260421T230116
CREATED:20250919T071623Z
LAST-MODIFIED:20250919T071623Z
UID:288632-1758402000-1758402000@mormoiron.fr
SUMMARY:En boucle - EN V.O
DESCRIPTION:Une nouvelle journée commence à l’auberge Fujiya\, nichée au coeur des montagnes japonaises. Une journée ordinaire… ou presque : car les uns après les autres\, les employés et les clients se rendent compte que les mêmes 2 minutes sont en train de se répéter à l’infini… Certains veulent en sortir\, d’autres préfèrent y rester\, mais tous cherchent à comprendre ce qui leur arrive.
URL:https://mormoiron.fr/event/en-boucle-en-v-o/
LOCATION:Hangar de Lamy\, 220 chemin des argiles\, Mormoiron\, 84570\, France
CATEGORIES:cinéma
ATTACH;FMTTYPE=image/png:https://mormoiron.fr/wp-content/uploads/2025/09/EN-BOUCLE.png
END:VEVENT
END:VCALENDAR