BEGIN:VCALENDAR
VERSION:2.0
PRODID:-//Mormoiron.fr - ECPv6.15.18//NONSGML v1.0//EN
CALSCALE:GREGORIAN
METHOD:PUBLISH
X-WR-CALNAME:Mormoiron.fr
X-ORIGINAL-URL:https://mormoiron.fr
X-WR-CALDESC:Évènements pour Mormoiron.fr
REFRESH-INTERVAL;VALUE=DURATION:PT1H
X-Robots-Tag:noindex
X-PUBLISHED-TTL:PT1H
BEGIN:VTIMEZONE
TZID:Europe/Paris
BEGIN:DAYLIGHT
TZOFFSETFROM:+0100
TZOFFSETTO:+0200
TZNAME:CEST
DTSTART:20240331T010000
END:DAYLIGHT
BEGIN:STANDARD
TZOFFSETFROM:+0200
TZOFFSETTO:+0100
TZNAME:CET
DTSTART:20241027T010000
END:STANDARD
BEGIN:DAYLIGHT
TZOFFSETFROM:+0100
TZOFFSETTO:+0200
TZNAME:CEST
DTSTART:20250330T010000
END:DAYLIGHT
BEGIN:STANDARD
TZOFFSETFROM:+0200
TZOFFSETTO:+0100
TZNAME:CET
DTSTART:20251026T010000
END:STANDARD
BEGIN:DAYLIGHT
TZOFFSETFROM:+0100
TZOFFSETTO:+0200
TZNAME:CEST
DTSTART:20260329T010000
END:DAYLIGHT
BEGIN:STANDARD
TZOFFSETFROM:+0200
TZOFFSETTO:+0100
TZNAME:CET
DTSTART:20261025T010000
END:STANDARD
END:VTIMEZONE
BEGIN:VEVENT
DTSTART;TZID=Europe/Paris:20251203T173000
DTEND;TZID=Europe/Paris:20251203T173000
DTSTAMP:20260421T180613
CREATED:20251202T124757Z
LAST-MODIFIED:20251202T125315Z
UID:289273-1764783000-1764783000@mormoiron.fr
SUMMARY:Le secret des mésanges
DESCRIPTION:Lorsque Lucie\, 9 ans\, arrive à Bectoile pour les vacances\, elle n’a aucune idée des aventures qui l’attendent ! Sa mère Caro y mène des fouilles archéologiques avec son collègue Pierrot. Cette dernière a grandi dans ce même village qui est aussi le théâtre d’un secret de famille que Lucie s’apprête à découvrir. Guidée par un couple de mésanges et avec l’aide de son nouvel ami Yann\, Lucie est bien décidée à se plonger dans son histoire familiale. Des sous-sols d’un château en ruine à une vieille caravane oubliée à l’orée des bois\, cette aventure les mènera de surprises insolites en fabuleuses découvertes !
URL:https://mormoiron.fr/event/le-secret-des-mesanges/
LOCATION:Hangar de Lamy\, 220 chemin des argiles\, Mormoiron\, 84570\, France
CATEGORIES:cinéma
ATTACH;FMTTYPE=image/jpeg:https://mormoiron.fr/wp-content/uploads/2025/12/mesanges.jpg
END:VEVENT
BEGIN:VEVENT
DTSTART;TZID=Europe/Paris:20251203T203000
DTEND;TZID=Europe/Paris:20251203T203000
DTSTAMP:20260421T180613
CREATED:20251202T125259Z
LAST-MODIFIED:20251202T125259Z
UID:289276-1764793800-1764793800@mormoiron.fr
SUMMARY:Marcel et Monsieur Pagnol
DESCRIPTION:A l’apogée de sa gloire\, Marcel Pagnol reçoit la commande d’une rédactrice en chef d’un grand magazine féminin pour l’écriture d’un feuilleton littéraire\, dans lequel il pourra raconter son enfance\, sa Provence\, ses premières amours… En rédigeant les premiers feuillets\, l’enfant qu’il a été autrefois\, le petit Marcel\, lui apparaît soudain. Ainsi\, ses souvenirs ressurgissent au fil des mots : l’arrivée du cinéma parlant\, le premier grand studio de cinéma\, son attachement aux acteurs\, l’expérience de l’écriture. Le plus grand conteur de tous les temps devient alors le héros de sa propre histoire.
URL:https://mormoiron.fr/event/marcel-et-monsieur-pagnol/
LOCATION:Hangar de Lamy\, 220 chemin des argiles\, Mormoiron\, 84570\, France
CATEGORIES:cinéma
ATTACH;FMTTYPE=image/jpeg:https://mormoiron.fr/wp-content/uploads/2025/12/PAGNOL.jpg
END:VEVENT
BEGIN:VEVENT
DTSTART;TZID=Europe/Paris:20251217T173000
DTEND;TZID=Europe/Paris:20251217T173000
DTSTAMP:20260421T180613
CREATED:20251202T131104Z
LAST-MODIFIED:20251202T131104Z
UID:289279-1765992600-1765992600@mormoiron.fr
SUMMARY:Kirikou et la sorcière
DESCRIPTION:Le minuscule Kirikou naît dans un village d’Afrique sur lequel la sorcière Karaba\, entourée de ses redoutables fétiches\, a jeté un terrible sort : la source est asséchée\, les villageois rançonnés\, les hommes sont kidnappés et disparaissent mystérieusement. \nKirikou\, sitôt sorti du ventre de sa mère\, veut délivrer le village de l’emprise maléfique de Karaba et découvrir le secret de sa méchanceté.
URL:https://mormoiron.fr/event/kirikou-et-la-sorciere/
LOCATION:Hangar de Lamy\, 220 chemin des argiles\, Mormoiron\, 84570\, France
CATEGORIES:cinéma
ATTACH;FMTTYPE=image/jpeg:https://mormoiron.fr/wp-content/uploads/2025/12/kirikou.jpg
END:VEVENT
BEGIN:VEVENT
DTSTART;TZID=Europe/Paris:20251217T203000
DTEND;TZID=Europe/Paris:20251217T203000
DTSTAMP:20260421T180613
CREATED:20251202T140416Z
LAST-MODIFIED:20251202T140416Z
UID:289282-1766003400-1766003400@mormoiron.fr
SUMMARY:T'as pas changé
DESCRIPTION:Suite à un événement aussi loufoque que tragique\, quatre anciens lycéens cabossés se télescopent et font face à leur passé. La force du groupe suffira-t-elle à les remettre droits ? \nVéritable déclaration d’amour aux années 90\, T’AS PAS CHANGÉ dresse le portrait hilarant et grinçant de ces quinquas que des retrouvailles vont bouleverser à jamais…
URL:https://mormoiron.fr/event/tas-pas-change/
LOCATION:Hangar de Lamy\, 220 chemin des argiles\, Mormoiron\, 84570\, France
CATEGORIES:cinéma
ATTACH;FMTTYPE=image/jpeg:https://mormoiron.fr/wp-content/uploads/2025/12/tas-pas-change.jpg
END:VEVENT
END:VCALENDAR