BEGIN:VCALENDAR
VERSION:2.0
PRODID:-//Mormoiron.fr - ECPv6.15.18//NONSGML v1.0//EN
CALSCALE:GREGORIAN
METHOD:PUBLISH
X-ORIGINAL-URL:https://mormoiron.fr
X-WR-CALDESC:Évènements pour Mormoiron.fr
REFRESH-INTERVAL;VALUE=DURATION:PT1H
X-Robots-Tag:noindex
X-PUBLISHED-TTL:PT1H
BEGIN:VTIMEZONE
TZID:Europe/Paris
BEGIN:DAYLIGHT
TZOFFSETFROM:+0100
TZOFFSETTO:+0200
TZNAME:CEST
DTSTART:20240331T010000
END:DAYLIGHT
BEGIN:STANDARD
TZOFFSETFROM:+0200
TZOFFSETTO:+0100
TZNAME:CET
DTSTART:20241027T010000
END:STANDARD
BEGIN:DAYLIGHT
TZOFFSETFROM:+0100
TZOFFSETTO:+0200
TZNAME:CEST
DTSTART:20250330T010000
END:DAYLIGHT
BEGIN:STANDARD
TZOFFSETFROM:+0200
TZOFFSETTO:+0100
TZNAME:CET
DTSTART:20251026T010000
END:STANDARD
BEGIN:DAYLIGHT
TZOFFSETFROM:+0100
TZOFFSETTO:+0200
TZNAME:CEST
DTSTART:20260329T010000
END:DAYLIGHT
BEGIN:STANDARD
TZOFFSETFROM:+0200
TZOFFSETTO:+0100
TZNAME:CET
DTSTART:20261025T010000
END:STANDARD
END:VTIMEZONE
BEGIN:VEVENT
DTSTART;TZID=Europe/Paris:20251004T180000
DTEND;TZID=Europe/Paris:20251004T180000
DTSTAMP:20260421T230251
CREATED:20250919T071928Z
LAST-MODIFIED:20250919T071928Z
UID:288634-1759600800-1759600800@mormoiron.fr
SUMMARY:Le monde de Wishy
DESCRIPTION:Quand Thomas rencontre Wishy\, une petite boule de poils venue d’un univers magique\, sa vie bascule. Dans ce royaume merveilleux peuplé de créatures fantastiques\, il peut remarcher\, et même voler !
URL:https://mormoiron.fr/event/le-monde-de-wishy/
LOCATION:Hangar de Lamy\, 220 chemin des argiles\, Mormoiron\, 84570\, France
CATEGORIES:cinéma
ATTACH;FMTTYPE=image/png:https://mormoiron.fr/wp-content/uploads/2025/09/LE-MONDE-DE-WISHY.png
END:VEVENT
BEGIN:VEVENT
DTSTART;TZID=Europe/Paris:20251004T210000
DTEND;TZID=Europe/Paris:20251004T210000
DTSTAMP:20260421T230251
CREATED:20250919T072259Z
LAST-MODIFIED:20250919T072259Z
UID:288637-1759611600-1759611600@mormoiron.fr
SUMMARY:Fils de
DESCRIPTION:Une semaine après la présidentielle\, la France cherche toujours son Premier Ministre. Nino\, jeune attaché parlementaire ambitieux\, est missionné pour convaincre son père\, Lionel Perrin d’accepter le poste. Mais cet éternel perdant a coupé les ponts avec la politique…et son fils. Nino se retrouve embarqué dans une course effrénée où tous les coups sont permis. Il a 24h pour sauver sa carrière\, son couple et si possible l’avenir de la France !
URL:https://mormoiron.fr/event/fils-de/
LOCATION:Hangar de Lamy\, 220 chemin des argiles\, Mormoiron\, 84570\, France
CATEGORIES:cinéma
ATTACH;FMTTYPE=image/png:https://mormoiron.fr/wp-content/uploads/2025/09/FILS-DE.png
END:VEVENT
END:VCALENDAR