BEGIN:VCALENDAR
VERSION:2.0
PRODID:-//Mormoiron.fr - ECPv6.15.18//NONSGML v1.0//EN
CALSCALE:GREGORIAN
METHOD:PUBLISH
X-WR-CALNAME:Mormoiron.fr
X-ORIGINAL-URL:https://mormoiron.fr
X-WR-CALDESC:Évènements pour Mormoiron.fr
REFRESH-INTERVAL;VALUE=DURATION:PT1H
X-Robots-Tag:noindex
X-PUBLISHED-TTL:PT1H
BEGIN:VTIMEZONE
TZID:Europe/Paris
BEGIN:DAYLIGHT
TZOFFSETFROM:+0100
TZOFFSETTO:+0200
TZNAME:CEST
DTSTART:20250330T010000
END:DAYLIGHT
BEGIN:STANDARD
TZOFFSETFROM:+0200
TZOFFSETTO:+0100
TZNAME:CET
DTSTART:20251026T010000
END:STANDARD
BEGIN:DAYLIGHT
TZOFFSETFROM:+0100
TZOFFSETTO:+0200
TZNAME:CEST
DTSTART:20260329T010000
END:DAYLIGHT
BEGIN:STANDARD
TZOFFSETFROM:+0200
TZOFFSETTO:+0100
TZNAME:CET
DTSTART:20261025T010000
END:STANDARD
BEGIN:DAYLIGHT
TZOFFSETFROM:+0100
TZOFFSETTO:+0200
TZNAME:CEST
DTSTART:20270328T010000
END:DAYLIGHT
BEGIN:STANDARD
TZOFFSETFROM:+0200
TZOFFSETTO:+0100
TZNAME:CET
DTSTART:20271031T010000
END:STANDARD
END:VTIMEZONE
BEGIN:VEVENT
DTSTART;TZID=Europe/Paris:20260114T173000
DTEND;TZID=Europe/Paris:20260114T173000
DTSTAMP:20260421T181618
CREATED:20251202T140644Z
LAST-MODIFIED:20251202T140644Z
UID:289285-1768411800-1768411800@mormoiron.fr
SUMMARY:Jean Valjean
DESCRIPTION:1815. Jean Valjean sort du bagne\, brisé\, rejeté de tous. Errant sans but\, il trouve refuge chez un homme d’Église\, sa sœur et leur servante. Face à cette main tendue\, Jean Valjean vacille et\, dans cette nuit suspendue\, devra choisir qui il veut devenir. \nD’après l’œuvre « Les Misérables » de Victor Hugo.
URL:https://mormoiron.fr/event/jean-valjean/
LOCATION:Hangar de Lamy\, 220 chemin des argiles\, Mormoiron\, 84570\, France
CATEGORIES:cinéma
ATTACH;FMTTYPE=image/jpeg:https://mormoiron.fr/wp-content/uploads/2025/12/jean-valjean.jpg
END:VEVENT
BEGIN:VEVENT
DTSTART;TZID=Europe/Paris:20260114T203000
DTEND;TZID=Europe/Paris:20260114T203000
DTSTAMP:20260421T181618
CREATED:20251202T141503Z
LAST-MODIFIED:20251202T141503Z
UID:289288-1768422600-1768422600@mormoiron.fr
SUMMARY:Dossier 137
DESCRIPTION:Le dossier 137 est en apparence une affaire de plus pour Stéphanie\, enquêtrice à l’IGPN\, la police des polices. Une manifestation tendue\, un jeune homme blessé par un tir de LBD\, des circonstances à éclaircir pour établir une responsabilité… Mais un élément inattendu va troubler Stéphanie\, pour qui le dossier 137 devient autre chose qu’un simple numéro.
URL:https://mormoiron.fr/event/dossier-137/
LOCATION:Hangar de Lamy\, 220 chemin des argiles\, Mormoiron\, 84570\, France
CATEGORIES:cinéma
ATTACH;FMTTYPE=image/jpeg:https://mormoiron.fr/wp-content/uploads/2025/12/dossier-137.jpg
END:VEVENT
END:VCALENDAR