BEGIN:VCALENDAR
VERSION:2.0
PRODID:-//Mormoiron.fr - ECPv6.15.18//NONSGML v1.0//EN
CALSCALE:GREGORIAN
METHOD:PUBLISH
X-WR-CALNAME:Mormoiron.fr
X-ORIGINAL-URL:https://mormoiron.fr
X-WR-CALDESC:Évènements pour Mormoiron.fr
REFRESH-INTERVAL;VALUE=DURATION:PT1H
X-Robots-Tag:noindex
X-PUBLISHED-TTL:PT1H
BEGIN:VTIMEZONE
TZID:Europe/Paris
BEGIN:DAYLIGHT
TZOFFSETFROM:+0100
TZOFFSETTO:+0200
TZNAME:CEST
DTSTART:20250330T010000
END:DAYLIGHT
BEGIN:STANDARD
TZOFFSETFROM:+0200
TZOFFSETTO:+0100
TZNAME:CET
DTSTART:20251026T010000
END:STANDARD
BEGIN:DAYLIGHT
TZOFFSETFROM:+0100
TZOFFSETTO:+0200
TZNAME:CEST
DTSTART:20260329T010000
END:DAYLIGHT
BEGIN:STANDARD
TZOFFSETFROM:+0200
TZOFFSETTO:+0100
TZNAME:CET
DTSTART:20261025T010000
END:STANDARD
BEGIN:DAYLIGHT
TZOFFSETFROM:+0100
TZOFFSETTO:+0200
TZNAME:CEST
DTSTART:20270328T010000
END:DAYLIGHT
BEGIN:STANDARD
TZOFFSETFROM:+0200
TZOFFSETTO:+0100
TZNAME:CET
DTSTART:20271031T010000
END:STANDARD
END:VTIMEZONE
BEGIN:VEVENT
DTSTART;TZID=Europe/Paris:20260211T173000
DTEND;TZID=Europe/Paris:20260211T173000
DTSTAMP:20260421T163757
CREATED:20260210T125521Z
LAST-MODIFIED:20260210T125521Z
UID:290240-1770831000-1770831000@mormoiron.fr
SUMMARY:Le Chant des forêts
DESCRIPTION:Après La Panthère des neiges\, Vincent Munier nous invite au coeur des forêts des Vosges. C’est ici qu’il a tout appris grâce à son père Michel\, naturaliste\, ayant passé sa vie à l’affut dans les bois. Il est l’heure pour eux de transmettre ce savoir à Simon\, le fils de Vincent. Trois regards\, trois générations\, une même fascination pour la vie sauvage. Nous découvrirons avec eux cerfs\, oiseaux rares\, renards et lynx… et parfois\, le battement d’ailes d’un animal légendaire : le Grand Tétras.
URL:https://mormoiron.fr/event/le-chant-des-forets/
LOCATION:Hangar de Lamy\, 220 chemin des argiles\, Mormoiron\, 84570\, France
CATEGORIES:cinéma
ATTACH;FMTTYPE=image/jpeg:https://mormoiron.fr/wp-content/uploads/2026/02/f5523e15c97af96169bdc93479553602.jpg
END:VEVENT
BEGIN:VEVENT
DTSTART;TZID=Europe/Paris:20260211T203000
DTEND;TZID=Europe/Paris:20260211T203000
DTSTAMP:20260421T163757
CREATED:20260210T125733Z
LAST-MODIFIED:20260210T125733Z
UID:290243-1770841800-1770841800@mormoiron.fr
SUMMARY:Ma Frère
DESCRIPTION:Shaï et Djeneba ont 20 ans et sont amies depuis l’enfance. Cet été-là\, elles sont animatrices dans une colonie de vacances. Elles accompagnent dans la Drôme une bande d’enfants qui\, comme elles\, ont grandi entre les tours de la Place des Fêtes à Paris. À l’aube de l’âge adulte\, elles devront faire des choix pour dessiner leur avenir et réinventer leur amitié.
URL:https://mormoiron.fr/event/ma-frere/
LOCATION:Hangar de Lamy\, 220 chemin des argiles\, Mormoiron\, 84570\, France
CATEGORIES:cinéma
ATTACH;FMTTYPE=image/jpeg:https://mormoiron.fr/wp-content/uploads/2026/02/35233aa3767ab31d242ec1c3ff34497c.jpg
END:VEVENT
END:VCALENDAR