BEGIN:VCALENDAR
VERSION:2.0
PRODID:-//Mormoiron.fr - ECPv6.15.18//NONSGML v1.0//EN
CALSCALE:GREGORIAN
METHOD:PUBLISH
X-ORIGINAL-URL:https://mormoiron.fr
X-WR-CALDESC:Évènements pour Mormoiron.fr
REFRESH-INTERVAL;VALUE=DURATION:PT1H
X-Robots-Tag:noindex
X-PUBLISHED-TTL:PT1H
BEGIN:VTIMEZONE
TZID:Europe/Paris
BEGIN:DAYLIGHT
TZOFFSETFROM:+0100
TZOFFSETTO:+0200
TZNAME:CEST
DTSTART:20250330T010000
END:DAYLIGHT
BEGIN:STANDARD
TZOFFSETFROM:+0200
TZOFFSETTO:+0100
TZNAME:CET
DTSTART:20251026T010000
END:STANDARD
BEGIN:DAYLIGHT
TZOFFSETFROM:+0100
TZOFFSETTO:+0200
TZNAME:CEST
DTSTART:20260329T010000
END:DAYLIGHT
BEGIN:STANDARD
TZOFFSETFROM:+0200
TZOFFSETTO:+0100
TZNAME:CET
DTSTART:20261025T010000
END:STANDARD
BEGIN:DAYLIGHT
TZOFFSETFROM:+0100
TZOFFSETTO:+0200
TZNAME:CEST
DTSTART:20270328T010000
END:DAYLIGHT
BEGIN:STANDARD
TZOFFSETFROM:+0200
TZOFFSETTO:+0100
TZNAME:CET
DTSTART:20271031T010000
END:STANDARD
END:VTIMEZONE
BEGIN:VEVENT
DTSTART;TZID=Europe/Paris:20260225T173000
DTEND;TZID=Europe/Paris:20260225T173000
DTSTAMP:20260423T123234
CREATED:20260224T133107Z
LAST-MODIFIED:20260224T133107Z
UID:290367-1772040600-1772040600@mormoiron.fr
SUMMARY:L'inconnu de la grande arche
DESCRIPTION:De Stéphane Demoustier\nPar Stéphane Demoustier\nAvec Claes Bang\, Sidse Babett Knudsen\, Xavier Dolan\n1983\, François Mitterrand décide de lancer un concours d’architecture international pour le projet phare de sa présidence : la Grande Arche de la Défense\, dans l’axe du Louvre et de l’Arc de Triomphe ! A la surprise générale\, Otto von Spreckelsen\, architecte danois\, remporte le concours. Du jour au lendemain\, cet homme de 53 ans\, inconnu en France\, débarque à Paris où il est propulsé à la tête de ce chantier pharaonique. Et si l’architecte entend bâtir la Grande Arche telle qu’il l’a imaginée\, ses idées vont très vite se heurter à la complexité du réel et aux aléas de la politique.
URL:https://mormoiron.fr/event/linconnu-de-la-grande-arche/
LOCATION:Hangar de Lamy\, 220 chemin des argiles\, Mormoiron\, 84570\, France
CATEGORIES:cinéma
ATTACH;FMTTYPE=image/jpeg:https://mormoiron.fr/wp-content/uploads/2026/02/7f2716df39b33e8a74e2aa710663ef91.jpg
END:VEVENT
BEGIN:VEVENT
DTSTART;TZID=Europe/Paris:20260225T203000
DTEND;TZID=Europe/Paris:20260225T203000
DTSTAMP:20260423T123234
CREATED:20260224T133435Z
LAST-MODIFIED:20260224T133435Z
UID:290370-1772051400-1772051400@mormoiron.fr
SUMMARY:Le Mage du Kremlin - En VO
DESCRIPTION:De Olivier Assayas \nPar Olivier Assayas\, Emmanuel Carrère\nAvec Paul Dano\, Jude Law\, Alicia Vikander\nTitre original The Wizard Of The Kremlin \nRussie\, dans les années 1990. L’URSS s’effondre. Dans le tumulte d’un pays en reconstruction\, un jeune homme à l’intelligence redoutable\, Vadim Baranov\, trace sa voie. D’abord artiste puis producteur de télé-réalité\, il devient le conseiller officieux d’un ancien agent du KGB promis à un pouvoir absolu\, le futur « Tsar » Vladimir Poutine. \nPlongé au cœur du système\, Baranov devient un rouage central de la nouvelle Russie\, façonnant les discours\, les images\, les perceptions. Mais une présence échappe à son contrôle : Ksenia\, femme libre et insaisissable\, incarne une échappée possible\, loin des logiques d’influence et de domination. \nQuinze ans plus tard\, après s’être retiré dans le silence\, Baranov accepte de parler. Ce qu’il révèle alors brouille les frontières entre réalité et fiction\, conviction et stratégie. Le Mage du Kremlin est une plongée dans les arcanes du pouvoir\, un récit où chaque mot dissimule une faille.
URL:https://mormoiron.fr/event/le-mage-du-kremlin-en-vo/
LOCATION:Hangar de Lamy\, 220 chemin des argiles\, Mormoiron\, 84570\, France
CATEGORIES:cinéma
ATTACH;FMTTYPE=image/jpeg:https://mormoiron.fr/wp-content/uploads/2026/02/27264fbe0076f4db99b28acfa0e21ac5.jpg
END:VEVENT
END:VCALENDAR