BEGIN:VCALENDAR
VERSION:2.0
PRODID:-//Mormoiron.fr - ECPv6.15.18//NONSGML v1.0//EN
CALSCALE:GREGORIAN
METHOD:PUBLISH
X-ORIGINAL-URL:https://mormoiron.fr
X-WR-CALDESC:Évènements pour Mormoiron.fr
REFRESH-INTERVAL;VALUE=DURATION:PT1H
X-Robots-Tag:noindex
X-PUBLISHED-TTL:PT1H
BEGIN:VTIMEZONE
TZID:Europe/Paris
BEGIN:DAYLIGHT
TZOFFSETFROM:+0100
TZOFFSETTO:+0200
TZNAME:CEST
DTSTART:20250330T010000
END:DAYLIGHT
BEGIN:STANDARD
TZOFFSETFROM:+0200
TZOFFSETTO:+0100
TZNAME:CET
DTSTART:20251026T010000
END:STANDARD
BEGIN:DAYLIGHT
TZOFFSETFROM:+0100
TZOFFSETTO:+0200
TZNAME:CEST
DTSTART:20260329T010000
END:DAYLIGHT
BEGIN:STANDARD
TZOFFSETFROM:+0200
TZOFFSETTO:+0100
TZNAME:CET
DTSTART:20261025T010000
END:STANDARD
BEGIN:DAYLIGHT
TZOFFSETFROM:+0100
TZOFFSETTO:+0200
TZNAME:CEST
DTSTART:20270328T010000
END:DAYLIGHT
BEGIN:STANDARD
TZOFFSETFROM:+0200
TZOFFSETTO:+0100
TZNAME:CET
DTSTART:20271031T010000
END:STANDARD
END:VTIMEZONE
BEGIN:VEVENT
DTSTART;TZID=Europe/Paris:20260311T173000
DTEND;TZID=Europe/Paris:20260311T173000
DTSTAMP:20260421T071140
CREATED:20260310T074924Z
LAST-MODIFIED:20260310T074924Z
UID:290562-1773250200-1773250200@mormoiron.fr
SUMMARY:À pied d'œuvre
DESCRIPTION:À pied d’œuvre raconte l’histoire vraie d’un homme qui renonce à son métier dont il ne comprend plus le sens pour se consacrer à sa véritable passion\, l’écriture. Mais être publié ne veut pas dire gagner sa vie…
URL:https://mormoiron.fr/event/a-pied-doeuvre/
LOCATION:Hangar de Lamy\, 220 chemin des argiles\, Mormoiron\, 84570\, France
CATEGORIES:cinéma
ATTACH;FMTTYPE=image/jpeg:https://mormoiron.fr/wp-content/uploads/2026/03/a3e1ce65375168ab8784cfafdbef8493.jpg
END:VEVENT
BEGIN:VEVENT
DTSTART;TZID=Europe/Paris:20260311T203000
DTEND;TZID=Europe/Paris:20260311T203000
DTSTAMP:20260421T071140
CREATED:20260310T075519Z
LAST-MODIFIED:20260310T075519Z
UID:290565-1773261000-1773261000@mormoiron.fr
SUMMARY:Le Gâteau du Président
DESCRIPTION:Dans l’Irak de Saddam Hussein\, Lamia\, 9 ans\, se voit confier la lourde tâche de confectionner un gâteau pour célébrer l’anniversaire du président. Sa quête d’ingrédients\, accompagnée de son ami Saeed\, bouleverse son quotidien.
URL:https://mormoiron.fr/event/le-gateau-du-president/
LOCATION:Hangar de Lamy\, 220 chemin des argiles\, Mormoiron\, 84570\, France
CATEGORIES:cinéma
ATTACH;FMTTYPE=image/jpeg:https://mormoiron.fr/wp-content/uploads/2026/03/e6195fdd0bbba065280ae124d28ea94b.jpg
END:VEVENT
END:VCALENDAR