BEGIN:VCALENDAR
VERSION:2.0
PRODID:-//Mormoiron.fr - ECPv6.15.18//NONSGML v1.0//EN
CALSCALE:GREGORIAN
METHOD:PUBLISH
X-ORIGINAL-URL:https://mormoiron.fr
X-WR-CALDESC:Évènements pour Mormoiron.fr
REFRESH-INTERVAL;VALUE=DURATION:PT1H
X-Robots-Tag:noindex
X-PUBLISHED-TTL:PT1H
BEGIN:VTIMEZONE
TZID:Europe/Paris
BEGIN:DAYLIGHT
TZOFFSETFROM:+0100
TZOFFSETTO:+0200
TZNAME:CEST
DTSTART:20250330T010000
END:DAYLIGHT
BEGIN:STANDARD
TZOFFSETFROM:+0200
TZOFFSETTO:+0100
TZNAME:CET
DTSTART:20251026T010000
END:STANDARD
BEGIN:DAYLIGHT
TZOFFSETFROM:+0100
TZOFFSETTO:+0200
TZNAME:CEST
DTSTART:20260329T010000
END:DAYLIGHT
BEGIN:STANDARD
TZOFFSETFROM:+0200
TZOFFSETTO:+0100
TZNAME:CET
DTSTART:20261025T010000
END:STANDARD
BEGIN:DAYLIGHT
TZOFFSETFROM:+0100
TZOFFSETTO:+0200
TZNAME:CEST
DTSTART:20270328T010000
END:DAYLIGHT
BEGIN:STANDARD
TZOFFSETFROM:+0200
TZOFFSETTO:+0100
TZNAME:CET
DTSTART:20271031T010000
END:STANDARD
END:VTIMEZONE
BEGIN:VEVENT
DTSTART;TZID=Europe/Paris:20260408T173000
DTEND;TZID=Europe/Paris:20260408T173000
DTSTAMP:20260421T123850
CREATED:20260408T085059Z
LAST-MODIFIED:20260408T085059Z
UID:291003-1775669400-1775669400@mormoiron.fr
SUMMARY:Cinéval - Chers Parents
DESCRIPTION:Quand Alice et Vincent Gauthier convoquent en urgence leurs trois enfants\, la fratrie débarque affolée craignant le pire … mais\, bonne nouvelle\, leurs parents ont en fait touché le Jackpot ! Le problème : ils ne comptent pas leur donner un centime.
URL:https://mormoiron.fr/event/cineval-chers-parents/
LOCATION:Hangar de Lamy\, 220 chemin des argiles\, Mormoiron\, 84570\, France
CATEGORIES:cinéma
ATTACH;FMTTYPE=image/jpeg:https://mormoiron.fr/wp-content/uploads/2026/04/293f877dfb7dcb5672591cba06329a20.jpg
END:VEVENT
BEGIN:VEVENT
DTSTART;TZID=Europe/Paris:20260408T203000
DTEND;TZID=Europe/Paris:20260408T203000
DTSTAMP:20260421T123850
CREATED:20260408T085648Z
LAST-MODIFIED:20260408T085648Z
UID:291008-1775680200-1775680200@mormoiron.fr
SUMMARY:Cinéval - La Maison des Femmes
DESCRIPTION:À la Maison des femmes\, entre soin\, écoute et solidarité\, une équipe se bat chaque jour pour accompagner les femmes victimes de violences dans leur reconstruction. Dans ce lieu unique\, Diane\, Manon\, Inès\, Awa et leurs collègues accueillent\, soutiennent\, redonnent confiance. Ensemble\, avec leurs forces\, leurs fragilités\, leurs convictions et une énergie inépuisable.
URL:https://mormoiron.fr/event/cineval-la-maison-des-femmes/
LOCATION:Hangar de Lamy\, 220 chemin des argiles\, Mormoiron\, 84570\, France
CATEGORIES:cinéma
ATTACH;FMTTYPE=image/webp:https://mormoiron.fr/wp-content/uploads/2026/04/ghfd.webp
END:VEVENT
END:VCALENDAR