BEGIN:VCALENDAR
VERSION:2.0
PRODID:-//Mormoiron.fr - ECPv6.15.18//NONSGML v1.0//EN
CALSCALE:GREGORIAN
METHOD:PUBLISH
X-ORIGINAL-URL:https://mormoiron.fr
X-WR-CALDESC:Évènements pour Mormoiron.fr
REFRESH-INTERVAL;VALUE=DURATION:PT1H
X-Robots-Tag:noindex
X-PUBLISHED-TTL:PT1H
BEGIN:VTIMEZONE
TZID:Europe/Paris
BEGIN:DAYLIGHT
TZOFFSETFROM:+0100
TZOFFSETTO:+0200
TZNAME:CEST
DTSTART:20240331T010000
END:DAYLIGHT
BEGIN:STANDARD
TZOFFSETFROM:+0200
TZOFFSETTO:+0100
TZNAME:CET
DTSTART:20241027T010000
END:STANDARD
BEGIN:DAYLIGHT
TZOFFSETFROM:+0100
TZOFFSETTO:+0200
TZNAME:CEST
DTSTART:20250330T010000
END:DAYLIGHT
BEGIN:STANDARD
TZOFFSETFROM:+0200
TZOFFSETTO:+0100
TZNAME:CET
DTSTART:20251026T010000
END:STANDARD
BEGIN:DAYLIGHT
TZOFFSETFROM:+0100
TZOFFSETTO:+0200
TZNAME:CEST
DTSTART:20260329T010000
END:DAYLIGHT
BEGIN:STANDARD
TZOFFSETFROM:+0200
TZOFFSETTO:+0100
TZNAME:CET
DTSTART:20261025T010000
END:STANDARD
END:VTIMEZONE
BEGIN:VEVENT
DTSTART;TZID=Europe/Paris:20250319T110000
DTEND;TZID=Europe/Paris:20250319T110000
DTSTAMP:20260423T050827
CREATED:20250307T144414Z
LAST-MODIFIED:20250307T144414Z
UID:285002-1742382000-1742382000@mormoiron.fr
SUMMARY:Journée Nationale du souvenir
DESCRIPTION:Journée Nationale du souvenir et du recueillement en mémoire des victimes civiles et militaires de la Guerre d’Algérie et ces combats en Tunisie et au Maroc. \nMonsieur le Maire\, Bernard LE DILY\, et son Conseil Municipal invitent la Population à assister à la cérémonie qui se déroulera le \nMercredi 19 Mars 2025 à 11h au monument aux morts.
URL:https://mormoiron.fr/event/journee-nationale-du-souvenir/
LOCATION:Monument aux morts
CATEGORIES:commémoration
ATTACH;FMTTYPE=image/jpeg:https://mormoiron.fr/wp-content/uploads/2025/03/commemoration_1000x0.jpg
END:VEVENT
END:VCALENDAR