BEGIN:VCALENDAR
VERSION:2.0
PRODID:-//Mormoiron.fr - ECPv6.15.18//NONSGML v1.0//EN
CALSCALE:GREGORIAN
METHOD:PUBLISH
X-ORIGINAL-URL:https://mormoiron.fr
X-WR-CALDESC:Évènements pour Mormoiron.fr
REFRESH-INTERVAL;VALUE=DURATION:PT1H
X-Robots-Tag:noindex
X-PUBLISHED-TTL:PT1H
BEGIN:VTIMEZONE
TZID:Europe/Paris
BEGIN:DAYLIGHT
TZOFFSETFROM:+0100
TZOFFSETTO:+0200
TZNAME:CEST
DTSTART:20250330T010000
END:DAYLIGHT
BEGIN:STANDARD
TZOFFSETFROM:+0200
TZOFFSETTO:+0100
TZNAME:CET
DTSTART:20251026T010000
END:STANDARD
BEGIN:DAYLIGHT
TZOFFSETFROM:+0100
TZOFFSETTO:+0200
TZNAME:CEST
DTSTART:20260329T010000
END:DAYLIGHT
BEGIN:STANDARD
TZOFFSETFROM:+0200
TZOFFSETTO:+0100
TZNAME:CET
DTSTART:20261025T010000
END:STANDARD
BEGIN:DAYLIGHT
TZOFFSETFROM:+0100
TZOFFSETTO:+0200
TZNAME:CEST
DTSTART:20270328T010000
END:DAYLIGHT
BEGIN:STANDARD
TZOFFSETFROM:+0200
TZOFFSETTO:+0100
TZNAME:CET
DTSTART:20271031T010000
END:STANDARD
END:VTIMEZONE
BEGIN:VEVENT
DTSTART;TZID=Europe/Paris:20260305T183000
DTEND;TZID=Europe/Paris:20260305T203000
DTSTAMP:20260422T042723
CREATED:20260126T124359Z
LAST-MODIFIED:20260128T085007Z
UID:289987-1772735400-1772742600@mormoiron.fr
SUMMARY:Café Sexo
DESCRIPTION:Avec Laure BRUNO – Sexologue\, Praticienne en psychanalyse et comédienne\n\nExploration du mystère du désir lors de ce Café sexo nourri par les échanges et de petites touches de créativité symbolique. Un cadre sécurisé et bienveillant\, où peuvent se mêler sérieux\, profondeur et aussi légèreté.\nParoles\, échanges\, rires\, créativité pour sortir des clichés et des injonctions qui pèsent sur la sexualité. Et lui redonner sa juste dimension : joyeuse et créative\, fragile et puissante\, intime et universelle.\nPlus d’infos sur le Café sexo auprès de Laure Bruno : 06 75 08 82 71 \nAdhérents : 7 € et non-adhérents : 10 €\nAdhésion annuelle à l’association Bacalan et Compagnies : 10 € \nInscription souhaitée : 06 12 96 55 92 ou bacalanetco@tutamail.com
URL:https://mormoiron.fr/event/cafe-sexo/
LOCATION:Mas de Bacalan\, 1049 C\, Route de Villes-sur-Auzon\, Mormoiron\, 84570\, France
CATEGORIES:Conférence
ATTACH;FMTTYPE=image/jpeg:https://mormoiron.fr/wp-content/uploads/2026/01/Bacalan-et-Compagnies.jpg
ORGANIZER;CN="Bacalans et Compagnies":MAILTO:bacalanetco@tutamail.com
END:VEVENT
END:VCALENDAR