BEGIN:VCALENDAR
VERSION:2.0
PRODID:-//Mormoiron.fr - ECPv6.15.18//NONSGML v1.0//EN
CALSCALE:GREGORIAN
METHOD:PUBLISH
X-WR-CALNAME:Mormoiron.fr
X-ORIGINAL-URL:https://mormoiron.fr
X-WR-CALDESC:Évènements pour Mormoiron.fr
REFRESH-INTERVAL;VALUE=DURATION:PT1H
X-Robots-Tag:noindex
X-PUBLISHED-TTL:PT1H
BEGIN:VTIMEZONE
TZID:Europe/Paris
BEGIN:DAYLIGHT
TZOFFSETFROM:+0100
TZOFFSETTO:+0200
TZNAME:CEST
DTSTART:20240331T010000
END:DAYLIGHT
BEGIN:STANDARD
TZOFFSETFROM:+0200
TZOFFSETTO:+0100
TZNAME:CET
DTSTART:20241027T010000
END:STANDARD
BEGIN:DAYLIGHT
TZOFFSETFROM:+0100
TZOFFSETTO:+0200
TZNAME:CEST
DTSTART:20250330T010000
END:DAYLIGHT
BEGIN:STANDARD
TZOFFSETFROM:+0200
TZOFFSETTO:+0100
TZNAME:CET
DTSTART:20251026T010000
END:STANDARD
BEGIN:DAYLIGHT
TZOFFSETFROM:+0100
TZOFFSETTO:+0200
TZNAME:CEST
DTSTART:20260329T010000
END:DAYLIGHT
BEGIN:STANDARD
TZOFFSETFROM:+0200
TZOFFSETTO:+0100
TZNAME:CET
DTSTART:20261025T010000
END:STANDARD
END:VTIMEZONE
BEGIN:VEVENT
DTSTART;TZID=Europe/Paris:20250416T093000
DTEND;TZID=Europe/Paris:20250615T183000
DTSTAMP:20260422T182935
CREATED:20250416T100443Z
LAST-MODIFIED:20250416T100443Z
UID:286391-1744795800-1750012200@mormoiron.fr
SUMMARY:Exposition d'aquarelles
DESCRIPTION:
URL:https://mormoiron.fr/event/exposition-daquarelles/
LOCATION:Cave TerraVentoux
CATEGORIES:Exposition
ATTACH;FMTTYPE=image/jpeg:https://mormoiron.fr/wp-content/uploads/2025/04/AQUARELLE_page-0001.jpg
END:VEVENT
BEGIN:VEVENT
DTSTART;TZID=Europe/Paris:20250524T083000
DTEND;TZID=Europe/Paris:20250601T170000
DTSTAMP:20260422T182935
CREATED:20250325T140928Z
LAST-MODIFIED:20250519T133131Z
UID:285284-1748075400-1748797200@mormoiron.fr
SUMMARY:Fête de l'Estampe
DESCRIPTION:affiche estampe
URL:https://mormoiron.fr/event/fete-de-lestampe/
LOCATION:salle des arts\, 73 rue de la mairie\, Mormoiron\, 84570
CATEGORIES:Exposition
ATTACH;FMTTYPE=image/jpeg:https://mormoiron.fr/wp-content/uploads/2025/03/affiche-expo-estampe-2025_page-0001.jpg
ORGANIZER;CN="Asso Lire et Connaitre":MAILTO:liretconnaitre84@gmail.com
END:VEVENT
BEGIN:VEVENT
DTSTART;TZID=Europe/Paris:20250524T110000
DTEND;TZID=Europe/Paris:20250614T200000
DTSTAMP:20260422T182935
CREATED:20250319T111149Z
LAST-MODIFIED:20250528T135258Z
UID:285175-1748084400-1749931200@mormoiron.fr
SUMMARY:Exposition de l'atelier rouge
DESCRIPTION:Atelier Rouge expose les travaux des participants aux différents ateliers enfants\, ados-adultes. \nDu 24 mai au 2 juin à la tour de guet.  \nDes visites seront proposées aux élèves des écoles\, primaire et maternelle. \nUn vernissage aura lieu le samedi 24 mai à partir de 11h00 devant la tour\, place de la mairie\, nous serons heureux d’y partager avec vous un verre de l’amitié.
URL:https://mormoiron.fr/event/exposition-de-latelier-rouge/
LOCATION:la tour du guet\, place de la mairie\, Mormoiron\, 84570
CATEGORIES:Exposition
ATTACH;FMTTYPE=image/jpeg:https://mormoiron.fr/wp-content/uploads/2025/05/atelier-rouge.jpeg
END:VEVENT
END:VCALENDAR