BEGIN:VCALENDAR
VERSION:2.0
PRODID:-//Mormoiron.fr - ECPv6.15.18//NONSGML v1.0//EN
CALSCALE:GREGORIAN
METHOD:PUBLISH
X-ORIGINAL-URL:https://mormoiron.fr
X-WR-CALDESC:Évènements pour Mormoiron.fr
REFRESH-INTERVAL;VALUE=DURATION:PT1H
X-Robots-Tag:noindex
X-PUBLISHED-TTL:PT1H
BEGIN:VTIMEZONE
TZID:Europe/Paris
BEGIN:DAYLIGHT
TZOFFSETFROM:+0100
TZOFFSETTO:+0200
TZNAME:CEST
DTSTART:20220327T010000
END:DAYLIGHT
BEGIN:STANDARD
TZOFFSETFROM:+0200
TZOFFSETTO:+0100
TZNAME:CET
DTSTART:20221030T010000
END:STANDARD
BEGIN:DAYLIGHT
TZOFFSETFROM:+0100
TZOFFSETTO:+0200
TZNAME:CEST
DTSTART:20230326T010000
END:DAYLIGHT
BEGIN:STANDARD
TZOFFSETFROM:+0200
TZOFFSETTO:+0100
TZNAME:CET
DTSTART:20231029T010000
END:STANDARD
BEGIN:DAYLIGHT
TZOFFSETFROM:+0100
TZOFFSETTO:+0200
TZNAME:CEST
DTSTART:20240331T010000
END:DAYLIGHT
BEGIN:STANDARD
TZOFFSETFROM:+0200
TZOFFSETTO:+0100
TZNAME:CET
DTSTART:20241027T010000
END:STANDARD
END:VTIMEZONE
BEGIN:VEVENT
DTSTART;TZID=Europe/Paris:20230610T203000
DTEND;TZID=Europe/Paris:20230610T203000
DTSTAMP:20260424T094455
CREATED:20230530T070921Z
LAST-MODIFIED:20230530T070921Z
UID:279423-1686429000-1686429000@mormoiron.fr
SUMMARY:Népal ymage
DESCRIPTION:
URL:https://mormoiron.fr/event/nepal-ymage/
LOCATION:La Ruche\, 50 chemin des cagarelles\, Mormoiron\, 84570\, France
ATTACH;FMTTYPE=image/jpeg:https://mormoiron.fr/wp-content/uploads/2023/05/Affiche-NepalYmages-2023-V1B-scaled.jpg
END:VEVENT
END:VCALENDAR