BEGIN:VCALENDAR
VERSION:2.0
PRODID:-//Mormoiron.fr - ECPv6.15.18//NONSGML v1.0//EN
CALSCALE:GREGORIAN
METHOD:PUBLISH
X-WR-CALNAME:Mormoiron.fr
X-ORIGINAL-URL:https://mormoiron.fr
X-WR-CALDESC:Évènements pour Mormoiron.fr
REFRESH-INTERVAL;VALUE=DURATION:PT1H
X-Robots-Tag:noindex
X-PUBLISHED-TTL:PT1H
BEGIN:VTIMEZONE
TZID:Europe/Paris
BEGIN:DAYLIGHT
TZOFFSETFROM:+0100
TZOFFSETTO:+0200
TZNAME:CEST
DTSTART:20220327T010000
END:DAYLIGHT
BEGIN:STANDARD
TZOFFSETFROM:+0200
TZOFFSETTO:+0100
TZNAME:CET
DTSTART:20221030T010000
END:STANDARD
BEGIN:DAYLIGHT
TZOFFSETFROM:+0100
TZOFFSETTO:+0200
TZNAME:CEST
DTSTART:20230326T010000
END:DAYLIGHT
BEGIN:STANDARD
TZOFFSETFROM:+0200
TZOFFSETTO:+0100
TZNAME:CET
DTSTART:20231029T010000
END:STANDARD
BEGIN:DAYLIGHT
TZOFFSETFROM:+0100
TZOFFSETTO:+0200
TZNAME:CEST
DTSTART:20240331T010000
END:DAYLIGHT
BEGIN:STANDARD
TZOFFSETFROM:+0200
TZOFFSETTO:+0100
TZNAME:CET
DTSTART:20241027T010000
END:STANDARD
END:VTIMEZONE
BEGIN:VEVENT
DTSTART;TZID=Europe/Paris:20230514T170000
DTEND;TZID=Europe/Paris:20230514T170000
DTSTAMP:20260424T003038
CREATED:20230329T090635Z
LAST-MODIFIED:20230329T090635Z
UID:278568-1684083600-1684083600@mormoiron.fr
SUMMARY:Théâtre "les Pâtissières"
DESCRIPTION:
URL:https://mormoiron.fr/event/theatre-les-patissieres/
LOCATION:Hangar de Lamy\, 220 chemin des argiles\, Mormoiron\, 84570\, France
ATTACH;FMTTYPE=application/pdf:https://mormoiron.fr/wp-content/uploads/2023/03/AFFICHE-definitive-Patissieres.pdf
ORGANIZER;CN="Asso les soins du figuier":MAILTO:lessoinsdufiguier@gmail.com
END:VEVENT
BEGIN:VEVENT
DTSTART;TZID=Europe/Paris:20230517T173000
DTEND;TZID=Europe/Paris:20230517T173000
DTSTAMP:20260424T003038
CREATED:20230329T090954Z
LAST-MODIFIED:20230329T090954Z
UID:278572-1684344600-1684344600@mormoiron.fr
SUMMARY:Théâtre au jardin
DESCRIPTION:
URL:https://mormoiron.fr/event/theatre-au-jardin/
LOCATION:La venue de Bedoin
ATTACH;FMTTYPE=:
ORGANIZER;CN="Asso Lire et Connaitre":MAILTO:liretconnaitre84@gmail.com
END:VEVENT
END:VCALENDAR